BEGIN:VCALENDAR
VERSION:2.0
PRODID:-//Newcomers Club of Tuolumne County - ECPv6.15.20//NONSGML v1.0//EN
CALSCALE:GREGORIAN
METHOD:PUBLISH
X-WR-CALNAME:Newcomers Club of Tuolumne County
X-ORIGINAL-URL:https://tcnc.org
X-WR-CALDESC:Events for Newcomers Club of Tuolumne County
REFRESH-INTERVAL;VALUE=DURATION:PT1H
X-Robots-Tag:noindex
X-PUBLISHED-TTL:PT1H
BEGIN:VTIMEZONE
TZID:UTC
BEGIN:STANDARD
TZOFFSETFROM:+0000
TZOFFSETTO:+0000
TZNAME:UTC
DTSTART:20250101T000000
END:STANDARD
END:VTIMEZONE
BEGIN:VEVENT
DTSTART;TZID=UTC:20260415T170000
DTEND;TZID=UTC:20260415T200000
DTSTAMP:20260423T194416
CREATED:20260405T221800Z
LAST-MODIFIED:20260405T221935Z
UID:1476-1776272400-1776283200@tcnc.org
SUMMARY:April Dinner Meeting
DESCRIPTION:When:    April 15\, the third Wednesday \nWhere:  The Peppery\, 13494 Mono Way\, Sonora \n Time:      5:00 pm Social Hour (No-host bar) \nBeer and wine are available for purchase. \n6:00 pm  Dinner \nPrice:   $35 per person. Please make your check payable to TCNC\, or if paying by cash\, kindly have exact change. \nRSVP:   No later than Saturday\, April 11\, by calling Bill Burnes. \nBuffet Dinner \nTri Tip \nBBQ Pork \nGreen Salad \nJalapeño Mashed Potatoes \nPasta \nGarlic Bread \nBill Burnes\, Dinner Director \nProgram \nDaniel Lewis\, interpreter for Railtown 1897 State Historic Park in Jamestown\, will speak. \nKaren Townley\, 1st Vice President (Programs)
URL:https://tcnc.org/event/april-dinner-meeting/
LOCATION:The Peppery\, 13494 Mono Way\, Sonora\, CA\, 95370\, United States
END:VEVENT
BEGIN:VEVENT
DTSTART;TZID=UTC:20260417T180000
DTEND;TZID=UTC:20260417T200000
DTSTAMP:20260423T194416
CREATED:20260409T000220Z
LAST-MODIFIED:20260409T000220Z
UID:1479-1776448800-1776456000@tcnc.org
SUMMARY:WINE TASTING
DESCRIPTION:Our Wine Tasting for April will be \nhosted by Lesley Thompson and \nGene Bettencourt \nDate:      April 17\, Friday \nTime:      6:00 pm \nAddress:  17878 Mountain Ridge Drive\, Sonora \nRSVP to Lesley at 209-533-1676 or 310-413-2213. \nPlease bring a bottle of your favorite wine and an appetizer to match. \n  \n 
URL:https://tcnc.org/event/wine-tasting/
END:VEVENT
BEGIN:VEVENT
DTSTART;TZID=UTC:20260420T140000
DTEND;TZID=UTC:20260420T160000
DTSTAMP:20260423T194416
CREATED:20250502T165035Z
LAST-MODIFIED:20260405T220154Z
UID:1329-1776693600-1776700800@tcnc.org
SUMMARY:KNITTING/NEEDLEWORK GROUP
DESCRIPTION:Sigrid Kehr will be hosting this month’s gathering on Monday\, April 20\, from 2 to 4 p.m. Those interested in attending can plan to knit\, crochet\, embroider\, quilt\, etc. with other members. Dessert\, coffee\, and tea will be served during the get-together. \nPlease RSVP to Sigrid. \nPatti Rittenhouse\, Needlework Chair \n 
URL:https://tcnc.org/event/knitting-needlework-group/
END:VEVENT
BEGIN:VEVENT
DTSTART;TZID=UTC:20260427T100000
DTEND;TZID=UTC:20260427T120000
DTSTAMP:20260423T194416
CREATED:20250502T164111Z
LAST-MODIFIED:20260405T220418Z
UID:1322-1777284000-1777291200@tcnc.org
SUMMARY:MEN'S BREAKFAST
DESCRIPTION:Men’s Breakfast \nNo-host\, separate checks. \n When:    Monday\, April 27\, at 10 a.m.  \n(last Monday each month) \nWhere:   My Garden Café\, 14270 Mono Way\, Sonora \nRSVP to Don Magni with either a call or text . \n  \n 
URL:https://tcnc.org/event/mens-breakfast/
LOCATION:My Garden Cafe\, 14270 Mono Way\, Sonora\, CA\, 95370\, United States
END:VEVENT
END:VCALENDAR