BEGIN:VCALENDAR
VERSION:2.0
PRODID:-//Newcomers Club of Tuolumne County - ECPv6.15.20//NONSGML v1.0//EN
CALSCALE:GREGORIAN
METHOD:PUBLISH
X-WR-CALNAME:Newcomers Club of Tuolumne County
X-ORIGINAL-URL:https://tcnc.org
X-WR-CALDESC:Events for Newcomers Club of Tuolumne County
REFRESH-INTERVAL;VALUE=DURATION:PT1H
X-Robots-Tag:noindex
X-PUBLISHED-TTL:PT1H
BEGIN:VTIMEZONE
TZID:UTC
BEGIN:STANDARD
TZOFFSETFROM:+0000
TZOFFSETTO:+0000
TZNAME:UTC
DTSTART:20250101T000000
END:STANDARD
END:VTIMEZONE
BEGIN:VEVENT
DTSTART;TZID=UTC:20260408T113000
DTEND;TZID=UTC:20260408T133000
DTSTAMP:20260423T211648
CREATED:20250502T163832Z
LAST-MODIFIED:20260405T215943Z
UID:1320-1775647800-1775655000@tcnc.org
SUMMARY:APRIL LADIES' LUNCHEON
DESCRIPTION:Hosts:  Lesley Thompson and Kathy O’Gorman  \nDate:  April 8\, Wednesday\, 11:30 a.m. \nWhere:  Morelia’s Mexican Restaurant \n18148 Main Street\, Jamestown \nSeparate checks are acceptable. \nPlease RSVP no later than Monday\, April 6. \nProspective and new members/guests are invited. \nDana Avila\, Ladies Luncheon Chair \n  \n 
URL:https://tcnc.org/event/cowgirl-luncheon/
LOCATION:Moriela’s\, 18148 Main Street\, Jamstown\, United States
END:VEVENT
END:VCALENDAR