BEGIN:VCALENDAR
VERSION:2.0
PRODID:-//Newcomers Club of Tuolumne County - ECPv6.15.20//NONSGML v1.0//EN
CALSCALE:GREGORIAN
METHOD:PUBLISH
X-WR-CALNAME:Newcomers Club of Tuolumne County
X-ORIGINAL-URL:https://tcnc.org
X-WR-CALDESC:Events for Newcomers Club of Tuolumne County
REFRESH-INTERVAL;VALUE=DURATION:PT1H
X-Robots-Tag:noindex
X-PUBLISHED-TTL:PT1H
BEGIN:VTIMEZONE
TZID:UTC
BEGIN:STANDARD
TZOFFSETFROM:+0000
TZOFFSETTO:+0000
TZNAME:UTC
DTSTART:20250101T000000
END:STANDARD
END:VTIMEZONE
BEGIN:VEVENT
DTSTART;TZID=UTC:20260420T140000
DTEND;TZID=UTC:20260420T160000
DTSTAMP:20260423T170842
CREATED:20250502T165035Z
LAST-MODIFIED:20260405T220154Z
UID:1329-1776693600-1776700800@tcnc.org
SUMMARY:KNITTING/NEEDLEWORK GROUP
DESCRIPTION:Sigrid Kehr will be hosting this month’s gathering on Monday\, April 20\, from 2 to 4 p.m. Those interested in attending can plan to knit\, crochet\, embroider\, quilt\, etc. with other members. Dessert\, coffee\, and tea will be served during the get-together. \nPlease RSVP to Sigrid. \nPatti Rittenhouse\, Needlework Chair \n 
URL:https://tcnc.org/event/knitting-needlework-group/
END:VEVENT
END:VCALENDAR